BEGIN:VCALENDAR
VERSION:2.0
PRODID:-//eventon.com NONSGML v1.0//EN
BEGIN:VEVENT
UID:69e882c76cb50
DTSTAMP:20260422T101151
DTSTART:20211204T000000Z
DTEND:20211212T000000Z
TZID:Pacific/Midway
LOCATION:
SUMMARY:Miniatyrutställning
DESCRIPTION: Teknik: blandade. Fyra bidrag. Storlek max 10&#215;10 cm. Extrauppgift med temat &#8221;homo sapiens&#8221; max 50&#215;50 cm\,  ett bidrag. Miniatyrutställningen är en öppen årligen återkommande möjlighet för såväl etablerade konstnärer som amatörer. Deltagandet är kostnadsfritt men föreningen erhåller 30% på försålda verk. Konstföreningen står för hyra\,  affischering\,  hängning samt vakthållning. Egen[..]\nhttps://sokoland.se/events/miniatyrutstallning/
URL:https://sokoland.se/events/miniatyrutstallning/
END:VEVENT
END:VCALENDAR